BEGIN:VCALENDAR
VERSION:2.0
PRODID:icalendar-ruby
CALSCALE:GREGORIAN
METHOD:PUBLISH
BEGIN:VEVENT
DTSTAMP:20260420T184131Z
UID:386-1375724@stfrancisairdrie.ca
DTSTART:20261008T150000Z
DTEND:20261008T153000Z
CLASS:PUBLIC
CREATED:20260420T121638
DESCRIPTION:Morning prayer is held every Monday and Thursday.\nThis in-pers
 on prayer gathering will run from 9:00 - 9:30 a.m in the small chapel besi
 de the church office.\nAll are welcome to join in this prayerful start to 
 the day.
LAST-MODIFIED:20260420T121638
LOCATION:132 Albert Street SE Airdrie
SUMMARY:Morning Prayer (In- Person)
URL;VALUE=URI:https://www.stfrancisairdrie.ca/events/morning-prayer-in-pers
 on--386/2026-10-08
ATTACH;FILENAME=morning prayer.jpg;FMTTYPE=image/jpeg:https://dq5pwpg1q8ru0
 .cloudfront.net/2023/08/22/07/09/38/9eea7cf3-c562-4fb7-a0f3-86397d11e44a/m
 orning%20prayer.jpg
END:VEVENT
END:VCALENDAR
